BEGIN:VCALENDAR
VERSION:2.0
PRODID:-//sulzdorf.city - ECPv6.15.20//NONSGML v1.0//EN
CALSCALE:GREGORIAN
METHOD:PUBLISH
X-WR-CALNAME:sulzdorf.city
X-ORIGINAL-URL:https://www.sulzdorf.city
X-WR-CALDESC:Veranstaltungen für sulzdorf.city
REFRESH-INTERVAL;VALUE=DURATION:PT1H
X-Robots-Tag:noindex
X-PUBLISHED-TTL:PT1H
BEGIN:VTIMEZONE
TZID:Europe/Berlin
BEGIN:DAYLIGHT
TZOFFSETFROM:+0100
TZOFFSETTO:+0200
TZNAME:CEST
DTSTART:20250330T010000
END:DAYLIGHT
BEGIN:STANDARD
TZOFFSETFROM:+0200
TZOFFSETTO:+0100
TZNAME:CET
DTSTART:20251026T010000
END:STANDARD
BEGIN:DAYLIGHT
TZOFFSETFROM:+0100
TZOFFSETTO:+0200
TZNAME:CEST
DTSTART:20260329T010000
END:DAYLIGHT
BEGIN:STANDARD
TZOFFSETFROM:+0200
TZOFFSETTO:+0100
TZNAME:CET
DTSTART:20261025T010000
END:STANDARD
BEGIN:DAYLIGHT
TZOFFSETFROM:+0100
TZOFFSETTO:+0200
TZNAME:CEST
DTSTART:20270328T010000
END:DAYLIGHT
BEGIN:STANDARD
TZOFFSETFROM:+0200
TZOFFSETTO:+0100
TZNAME:CET
DTSTART:20271031T010000
END:STANDARD
END:VTIMEZONE
BEGIN:VEVENT
DTSTART;TZID=Europe/Berlin:20260308T100000
DTEND;TZID=Europe/Berlin:20260308T153000
DTSTAMP:20260421T151522
CREATED:20260306T191455Z
LAST-MODIFIED:20260330T120353Z
UID:778-1772964000-1772983800@www.sulzdorf.city
SUMMARY:Kuchenverkauf des Elternbeirats
DESCRIPTION:Alle Infos dazu hier: https://www.sulzdorf.city/kuchenverkauf-fuer-einen-guten-zweck-8-maerz-in-der-turnhalle/
URL:https://www.sulzdorf.city/termin/kuchenverkauf-des-elternbeirats/
ATTACH;FMTTYPE=image/jpeg:https://www.sulzdorf.city/wp-content/uploads/2026/03/sulzdorf-kuchenverkauf-8-maerz-26.jpg
END:VEVENT
BEGIN:VEVENT
DTSTART;TZID=Europe/Berlin:20260308T110000
DTEND;TZID=Europe/Berlin:20260308T153000
DTSTAMP:20260421T151522
CREATED:20260306T191255Z
LAST-MODIFIED:20260330T120337Z
UID:773-1772967600-1772983800@www.sulzdorf.city
SUMMARY:Kuchenverkauf der Kirchengemeinde
DESCRIPTION:Alle Infos dazu hier: https://www.sulzdorf.city/kuchenverkauf-der-kirchengemeinde-direkt-neben-dem-wahlraum/
URL:https://www.sulzdorf.city/termin/kuchenverkauf-der-kirchengemeinde/
ATTACH;FMTTYPE=image/jpeg:https://www.sulzdorf.city/wp-content/uploads/2026/03/kuchenverkauf-kirchengemeinde-maerz-2026.jpg
END:VEVENT
END:VCALENDAR