BEGIN:VCALENDAR
VERSION:2.0
PRODID:-//sulzdorf.city - ECPv6.15.20//NONSGML v1.0//EN
CALSCALE:GREGORIAN
METHOD:PUBLISH
X-ORIGINAL-URL:https://www.sulzdorf.city
X-WR-CALDESC:Veranstaltungen für sulzdorf.city
REFRESH-INTERVAL;VALUE=DURATION:PT1H
X-Robots-Tag:noindex
X-PUBLISHED-TTL:PT1H
BEGIN:VTIMEZONE
TZID:Europe/Berlin
BEGIN:DAYLIGHT
TZOFFSETFROM:+0100
TZOFFSETTO:+0200
TZNAME:CEST
DTSTART:20250330T010000
END:DAYLIGHT
BEGIN:STANDARD
TZOFFSETFROM:+0200
TZOFFSETTO:+0100
TZNAME:CET
DTSTART:20251026T010000
END:STANDARD
BEGIN:DAYLIGHT
TZOFFSETFROM:+0100
TZOFFSETTO:+0200
TZNAME:CEST
DTSTART:20260329T010000
END:DAYLIGHT
BEGIN:STANDARD
TZOFFSETFROM:+0200
TZOFFSETTO:+0100
TZNAME:CET
DTSTART:20261025T010000
END:STANDARD
BEGIN:DAYLIGHT
TZOFFSETFROM:+0100
TZOFFSETTO:+0200
TZNAME:CEST
DTSTART:20270328T010000
END:DAYLIGHT
BEGIN:STANDARD
TZOFFSETFROM:+0200
TZOFFSETTO:+0100
TZNAME:CET
DTSTART:20271031T010000
END:STANDARD
END:VTIMEZONE
BEGIN:VEVENT
DTSTART;TZID=Europe/Berlin:20260418T110000
DTEND;TZID=Europe/Berlin:20260418T150000
DTSTAMP:20260423T123821
CREATED:20260309T102638Z
LAST-MODIFIED:20260330T120813Z
UID:790-1776510000-1776524400@www.sulzdorf.city
SUMMARY:Kinderkleiderbasar des TSV Sulzdorf
DESCRIPTION:
URL:https://www.sulzdorf.city/termin/kinderkleiderbasar-des-tsv-sulzdorf/
LOCATION:Gemeindezentrum Sulzdorf\, Dammstr. 9\, Schwäbisch Hall - Sulzdorf\, 74523\, Germany
ATTACH;FMTTYPE=image/jpeg:https://www.sulzdorf.city/wp-content/uploads/2026/03/kinder-kleiderbasar-tsv-sulzdorf-header.jpg
END:VEVENT
END:VCALENDAR