BEGIN:VCALENDAR
VERSION:2.0
PRODID:-//sulzdorf.city - ECPv6.15.20//NONSGML v1.0//EN
CALSCALE:GREGORIAN
METHOD:PUBLISH
X-WR-CALNAME:sulzdorf.city
X-ORIGINAL-URL:https://www.sulzdorf.city
X-WR-CALDESC:Veranstaltungen für sulzdorf.city
REFRESH-INTERVAL;VALUE=DURATION:PT1H
X-Robots-Tag:noindex
X-PUBLISHED-TTL:PT1H
BEGIN:VTIMEZONE
TZID:Europe/Berlin
BEGIN:DAYLIGHT
TZOFFSETFROM:+0100
TZOFFSETTO:+0200
TZNAME:CEST
DTSTART:20250330T010000
END:DAYLIGHT
BEGIN:STANDARD
TZOFFSETFROM:+0200
TZOFFSETTO:+0100
TZNAME:CET
DTSTART:20251026T010000
END:STANDARD
BEGIN:DAYLIGHT
TZOFFSETFROM:+0100
TZOFFSETTO:+0200
TZNAME:CEST
DTSTART:20260329T010000
END:DAYLIGHT
BEGIN:STANDARD
TZOFFSETFROM:+0200
TZOFFSETTO:+0100
TZNAME:CET
DTSTART:20261025T010000
END:STANDARD
BEGIN:DAYLIGHT
TZOFFSETFROM:+0100
TZOFFSETTO:+0200
TZNAME:CEST
DTSTART:20270328T010000
END:DAYLIGHT
BEGIN:STANDARD
TZOFFSETFROM:+0200
TZOFFSETTO:+0100
TZNAME:CET
DTSTART:20271031T010000
END:STANDARD
END:VTIMEZONE
BEGIN:VEVENT
DTSTART;TZID=Europe/Berlin:20260425T110000
DTEND;TZID=Europe/Berlin:20260425T150000
DTSTAMP:20260421T121436
CREATED:20260406T104237Z
LAST-MODIFIED:20260408T121552Z
UID:996-1777114800-1777129200@www.sulzdorf.city
SUMMARY:Tag der offenen Tür bei InVivo Physiotherapie
DESCRIPTION:
URL:https://www.sulzdorf.city/termin/tag-der-offenen-tuer-bei-invivo-physiotherapie/
LOCATION:InVivo Physiotherapie – Sulzdorf\, Herdweg 9\, Schwäbisch Hall-Sulzdorf\, 74523\, Germany
ATTACH;FMTTYPE=image/jpeg:https://www.sulzdorf.city/wp-content/uploads/2026/04/invivo-sulzdorf-gesundheitswochen-header.jpg
END:VEVENT
BEGIN:VEVENT
DTSTART;VALUE=DATE:20260515
DTEND;VALUE=DATE:20260518
DTSTAMP:20260421T121436
CREATED:20260330T115230Z
LAST-MODIFIED:20260406T105144Z
UID:932-1778803200-1779062399@www.sulzdorf.city
SUMMARY:Kinder-Musical-Wochenende 2026
DESCRIPTION:Alle Infos dazu hier.
URL:https://www.sulzdorf.city/termin/kinder-musical-wochenende-2026/
LOCATION:Gemeindezentrum Sulzdorf\, Dammstr. 9\, Schwäbisch Hall - Sulzdorf\, 74523\, Germany
ATTACH;FMTTYPE=image/jpeg:https://www.sulzdorf.city/wp-content/uploads/2026/03/Kinder-Musical-Wochenende-2026-header.jpg
END:VEVENT
BEGIN:VEVENT
DTSTART;TZID=Europe/Berlin:20260517T170000
DTEND;TZID=Europe/Berlin:20260517T180000
DTSTAMP:20260421T121436
CREATED:20260330T115130Z
LAST-MODIFIED:20260406T105323Z
UID:929-1779037200-1779040800@www.sulzdorf.city
SUMMARY:Aufführung: Kinder-Musical „Zachäus“
DESCRIPTION:Alle Infos dazu hier.
URL:https://www.sulzdorf.city/termin/kinder-musical-zachaeus/
LOCATION:Margarethenkirche Sulzdorf\, Hauptstraße 20\, Schwäbisch Hall-Sulzdorf\, 74523
ATTACH;FMTTYPE=image/jpeg:https://www.sulzdorf.city/wp-content/uploads/2026/03/Kinder-Musical-Wochenende-2026-header.jpg
END:VEVENT
BEGIN:VEVENT
DTSTART;VALUE=DATE:20260619
DTEND;VALUE=DATE:20260622
DTSTAMP:20260421T121436
CREATED:20260305T220744Z
LAST-MODIFIED:20260406T105701Z
UID:706-1781827200-1782086399@www.sulzdorf.city
SUMMARY:1050 Jahre Sulzdorf
DESCRIPTION:Das wird groß gefeiert!Die Organisatoren suchen übrigens noch fleißige Helfer. Wer möchte\, meldet sich bitte … \n\n\n\nWeitere Informationen folgen.
URL:https://www.sulzdorf.city/termin/1050-jahre-sulzdorf/
LOCATION:Sulzdorf\, Schwäbisch Hall-Sulzdorf\, 74523
ATTACH;FMTTYPE=image/jpeg:https://www.sulzdorf.city/wp-content/uploads/2026/03/sulzdorf-drohne-header.jpg
END:VEVENT
END:VCALENDAR